BEGIN:VCALENDAR
VERSION:2.0
PRODID:-//Ecoportal - ECPv4.6.26.1//NONSGML v1.0//EN
CALSCALE:GREGORIAN
METHOD:PUBLISH
X-WR-CALNAME:Ecoportal
X-ORIGINAL-URL:http://ecoportal.net.au
X-WR-CALDESC:Events for Ecoportal
BEGIN:VEVENT
DTSTART;TZID=Australia/Melbourne:20200213T080000
DTEND;TZID=Australia/Melbourne:20200213T110000
DTSTAMP:20200226T130654
CREATED:20200206T101259Z
LAST-MODIFIED:20200206T101259Z
UID:11366-1581580800-1581591600@ecoportal.net.au
SUMMARY:Bush Regeneration\, Wangaratta.
DESCRIPTION:As long as it’s not raining\, the Wangaratta Urban Landcare Regeneration Group will be at work in Kaluna Park this morning. \nEveryone is welcome. We’ll be weeding\, so you’ll learn how to tell a native from and introduced plant\, and enjoy chatting with like minded people. All tools provided\, but bring a kneeling pad if you want. Bring morning tea to enjoy in a sunny spot on the banks of the King River. \nMeet at the parking area at loop at the end of the road in Merriwa Park at 8:00. \nMore information? \nAdrian Twitt 0470 403 875 or 03 5721 5327 \nahtwitt@gmail.com \n  \nVenue Name \nKaluna Park\, Wangaratta.  \n  \nAddress \n  \n
URL:http://ecoportal.net.au/event/bush-regeneration-wangaratta/
END:VEVENT
BEGIN:VEVENT
DTSTART;TZID=Australia/Melbourne:20200213T083000
DTEND;TZID=Australia/Melbourne:20200213T130000
DTSTAMP:20200226T130654
CREATED:20190621T030320Z
LAST-MODIFIED:20200106T224423Z
UID:11151-1581582600-1581598800@ecoportal.net.au
SUMMARY:Volly 1/2 Day @ Winton Wetlands
DESCRIPTION:Weekly working-bees at the Winton Wetlands Reserve with the Park Rangers and Friends of Winton Wetlands.\nEnvironmental restoration projects every week spread across the 20\,000 acre site.\nAll tools and safety equipment supplied\,\nIncludes a free lunch of toasties and coffee from the Hub Cafe \n  \nGet in contact with our office to register your interest or to discuss other exciting opportunities we have available! \nWinton Wetlands – info@wintonwetlands.org.au      B: (03)57664462 \n
URL:http://ecoportal.net.au/event/volly-day-winton-wetlands-2-3-2-3-2-2-4-2-2/
END:VEVENT
END:VCALENDAR