BEGIN:VCALENDAR
VERSION:2.0
PRODID:-//Ecoportal - ECPv4.6.26.1//NONSGML v1.0//EN
CALSCALE:GREGORIAN
METHOD:PUBLISH
X-WR-CALNAME:Ecoportal
X-ORIGINAL-URL:http://ecoportal.net.au
X-WR-CALDESC:Events for Ecoportal
BEGIN:VEVENT
DTSTART;TZID=Australia/Melbourne:20200209T080000
DTEND;TZID=Australia/Melbourne:20200209T110000
DTSTAMP:20200226T130608
CREATED:20190708T040829Z
LAST-MODIFIED:20190708T040829Z
UID:10287-1581235200-1581246000@ecoportal.net.au
SUMMARY:Wonga Wetlands
DESCRIPTION:Meet at 8am.  BYO morning tea.  Leader David phone 0260 212022 \n
URL:http://ecoportal.net.au/event/wonga-wetlands/
END:VEVENT
END:VCALENDAR