BEGIN:VCALENDAR
VERSION:2.0
PRODID:-//Ecoportal - ECPv4.6.26.1//NONSGML v1.0//EN
CALSCALE:GREGORIAN
METHOD:PUBLISH
X-WR-CALNAME:Ecoportal
X-ORIGINAL-URL:http://ecoportal.net.au
X-WR-CALDESC:Events for Ecoportal
BEGIN:VEVENT
DTSTART;TZID=Australia/Melbourne:20200207T190000
DTEND;TZID=Australia/Melbourne:20200207T210000
DTSTAMP:20200226T130522
CREATED:20190708T040340Z
LAST-MODIFIED:20190922T112620Z
UID:10285-1581102000-1581109200@ecoportal.net.au
SUMMARY:Annual General Meeting - Albury-Wodonga Field Naturalists Club
DESCRIPTION:Meeting commences 7pm in the hall at Wonga Wetlands. \nPlease bring a small contribution toward supper. \nContact person Veronica phone 0260 212120 \n
URL:http://ecoportal.net.au/event/annual-general-meeting/
END:VEVENT
END:VCALENDAR