BEGIN:VCALENDAR
VERSION:2.0
PRODID:-//Ecoportal - ECPv4.6.26.1//NONSGML v1.0//EN
CALSCALE:GREGORIAN
METHOD:PUBLISH
X-WR-CALNAME:Ecoportal
X-ORIGINAL-URL:http://ecoportal.net.au
X-WR-CALDESC:Events for Ecoportal
BEGIN:VEVENT
DTSTART;TZID=Australia/Melbourne:20200201T070000
DTEND;TZID=Australia/Melbourne:20200202T180000
DTSTAMP:20200226T130030
CREATED:20191228T000357Z
LAST-MODIFIED:20191228T000357Z
UID:11124-1580540400-1580666400@ecoportal.net.au
SUMMARY:Border Bushwalking Club - Canoe the Upper Murray
DESCRIPTION:Spend the weekend paddling/camping the Upper Murray River. Leaving Albury early on Saturday morning\, we will head up towards Jingellic or Walwa. Exactly where we will start from and paddle to on Saturday will be decided closer to the date and be dependent on river conditions at the time. Sunday will be a shorter day of paddling\, hopefully finishing by lunchtime and having lunch at Jingellic Pub.\nOver the two days we will probably paddle about 30kms\, all downstream.\nIf you don’t want to paddle\, you could be our support vehicle\, (which would mean that we wouldn’t have to do car shuffles each day) and camp on Saturday night\, with us at Walwa Riverside Caravan Park.\nEveryone will be paddling in new double kayaks\, that will be hired from the Canoe Guy- $120 per canoe/$60 per person\, this includes pfd’s and paddles. Paddlers must be able to swim 25m and be confident in the river.\nPlease note the early book by date Thursday 9th January 2020. This is the busy season. So we need to book The Canoe Guy \, Walwa Caravan Park and Jingellic Pub early. \nLeader: Deb\nPhone: 0410047884 before 8pm\nMick\n0437101009\nFinal booking date: Thursday 9th January 2020 \n
URL:http://ecoportal.net.au/event/border-bushwalking-club-canoe-the-upper-murray/
END:VEVENT
BEGIN:VEVENT
DTSTART;TZID=Australia/Melbourne:20200202T090000
DTEND;TZID=Australia/Melbourne:20200202T150000
DTSTAMP:20200226T130030
CREATED:20200131T230859Z
LAST-MODIFIED:20200131T230859Z
UID:11324-1580634000-1580655600@ecoportal.net.au
SUMMARY:Friends of Chiltern Mt Pilot National Park Field Day
DESCRIPTION:Join us on our monthly Field Days working in the Park – weeding\, revegging\, improving infrastructure. etc. We are a very welcoming mob and cater for all ages and levels of skill and knowledge. Meet at Chiltern Post Office on Howlong Rd at 9am\, then proceed to the Park. Check our Facebook page for more information or call Mick Webster 0429017229 \n
URL:http://ecoportal.net.au/event/friends-of-chiltern-mt-pilot-national-park-field-day/
END:VEVENT
BEGIN:VEVENT
DTSTART;TZID=Australia/Melbourne:20200202T120000
DTEND;TZID=Australia/Melbourne:20200202T180000
DTSTAMP:20200226T130030
CREATED:20191218T001031Z
LAST-MODIFIED:20200116T014640Z
UID:11102-1580644800-1580666400@ecoportal.net.au
SUMMARY:World Wetlands Day
DESCRIPTION:Join us at the Mokoan Hub & Cafe to celebrate World Wetlands Day 2020! \nActivities commence at 12:00pm\, including water bug discovery\, meet a scientist and colouring in for kids!\nEnjoy the festivities and our wetlands themed day in the Mokoan Hub & Cafe\, including decorations and food! \nIf you can’t make it\, join us on Facebook for our live stream Q&A sessions with Winton Wetlands restoration scientist\, Dr Lisa Farnsworth.\nLive stream commences at 3pm AEDT. Have your questions ready to go! \n  \nTest out your photography skills at Winton Wetlands and enter our World Wetlands Day Biodiversity Photography Competition\, beginning on Wednesday 15th January! \nPhotographs must be taken at the Winton Wetlands site within the last 12 months. We have three categories; junior (16 and under)\, smart phone and DSLR and prizes up for grabs for each category. \nEntries must be submitted to info@wintonwetlands.org.au \n\n\nYour entry must include: \nName\nPhone number\nPhotograph (JPEG or JPG formats only – up to 10mb)\nAddress the biodiversity theme\nPhotograph caption explains links to the biodiversity theme\n\n\n\n  \nFor more information and T&Cs click here. \nWorld Wetlands Day at Winton Wetlands \n12 – 3pm \n652 Lake Mokoan Road\, Chesney Vale\, Vic 3725 \nFind us on Facebook https://www.facebook.com/wintonwetlands \n
URL:http://ecoportal.net.au/event/world-wetlands-day/
END:VEVENT
END:VCALENDAR