BEGIN:VCALENDAR
VERSION:2.0
PRODID:-//Ecoportal - ECPv4.6.26.1//NONSGML v1.0//EN
CALSCALE:GREGORIAN
METHOD:PUBLISH
X-WR-CALNAME:Ecoportal
X-ORIGINAL-URL:http://ecoportal.net.au
X-WR-CALDESC:Events for Ecoportal
BEGIN:VEVENT
DTSTART;TZID=Australia/Melbourne:20200130T083000
DTEND;TZID=Australia/Melbourne:20200130T130000
DTSTAMP:20200226T125706
CREATED:20190621T030320Z
LAST-MODIFIED:20200106T224248Z
UID:11146-1580373000-1580389200@ecoportal.net.au
SUMMARY:Volly 1/2 Day @ Winton Wetlands
DESCRIPTION:Weekly working-bees at the Winton Wetlands Reserve with the Park Rangers and Friends of Winton Wetlands.\nEnvironmental restoration projects every week spread across the 20\,000 acre site.\nAll tools and safety equipment supplied\,\nIncludes a free lunch of toasties and coffee from the Hub Cafe \n  \nGet in contact with our office to register your interest or to discuss other exciting opportunities we have available! \nWinton Wetlands – info@wintonwetlands.org.au      B: (03)57664462 \n
URL:http://ecoportal.net.au/event/volly-day-winton-wetlands-2-3-2-3-2-2-4/
END:VEVENT
END:VCALENDAR