BEGIN:VCALENDAR
VERSION:2.0
PRODID:-//Ecoportal - ECPv4.6.26.1//NONSGML v1.0//EN
CALSCALE:GREGORIAN
METHOD:PUBLISH
X-WR-CALNAME:Ecoportal
X-ORIGINAL-URL:http://ecoportal.net.au
X-WR-CALDESC:Events for Ecoportal
BEGIN:VEVENT
DTSTART;TZID=Australia/Melbourne:20200205T084500
DTEND;TZID=Australia/Melbourne:20200205T140000
DTSTAMP:20200226T130256
CREATED:20190715T020150Z
LAST-MODIFIED:20190715T020150Z
UID:10317-1580892300-1580911200@ecoportal.net.au
SUMMARY:Winton Wetlands Quarterly Bird Surveys
DESCRIPTION:Long Term Bird monitoring Surveys\nMeet at the Winton Wetlands Boat Ramp Carpark where we will carpool across the reserve for surveys then meet back at the Hub Cafe for Lunch. \nRSVP to Kathy on 5762 5755\nhttp://www.birdlife.org.au/images/uploads/branches/documents/MG-2019_Calendar_v4_Nov_2018.pdf \nUse the buttons below to share this with your friends or networks ...FacebookTwitter
URL:http://ecoportal.net.au/event/winton-wetlands-quarterly-bird-surveys-3/
END:VEVENT
END:VCALENDAR