BEGIN:VCALENDAR
VERSION:2.0
PRODID:-//Ecoportal - ECPv4.6.26.1//NONSGML v1.0//EN
CALSCALE:GREGORIAN
METHOD:PUBLISH
X-WR-CALNAME:Ecoportal
X-ORIGINAL-URL:http://ecoportal.net.au
X-WR-CALDESC:Events for Ecoportal
BEGIN:VEVENT
DTSTART;TZID=Australia/Melbourne:20200205T090000
DTEND;TZID=Australia/Melbourne:20200205T120100
DTSTAMP:20200226T130316
CREATED:20200127T034525Z
LAST-MODIFIED:20200127T034700Z
UID:11291-1580893200-1580904060@ecoportal.net.au
SUMMARY:Winton Wetland bird survey
DESCRIPTION:Birdlife Murray Goulburn \nQuarterly Bird Survey at Winton Wetlands \nDate:  Wednesday 5th February 2020 \nTime: 8:50am for a 9:00am start – finish by about 12:00 noon \nMeet at: Boat Ramp\, Lake Mokoan Road\, Chesneyvale (Vicroads map 34 B9) \n(We will enjoy lunch in the Mokoan Hub & Café) \nRSVP: Friday 31st January 2020 – see contact details below \nAfter seven years of surveys of Winton Wetlands\, 2020 heralds an exciting new phase. We will now be looking at previously unexplored territory at the Wetlands. The Regent Honeyeater Revegetation Project requested BLMG to survey some of the areas that they have revegetated at the Wetland. So we are adding four new sites to our quarterly survey program. Team 1 gains a new site along Lake Mokoan Rd. and a new Team 6 will check three sites near the Dam Wall area. These areas have great understorey habitat\, and hopefully lots of bush birds. \nOur next survey is on Wednesday 5th of February. We now need a minimum of 12 volunteers to form 6 teams and finish the survey by about 12 noon. Places are limited\, so book in soon! If there is a Total Fire Ban on the 5th for the North East district\, we will try to re-schedule the survey for Wednesday the 12th. \nRSVP to \nKathy Costello\, email coskoy@bigpond.com or ph. 5762 5755 \nUse the buttons below to share this with your friends or networks ...FacebookTwitter
URL:http://ecoportal.net.au/event/winton-wetland-bird-survey-2/
END:VEVENT
END:VCALENDAR