BEGIN:VCALENDAR
VERSION:2.0
PRODID:-//Ecoportal - ECPv4.6.26.1//NONSGML v1.0//EN
CALSCALE:GREGORIAN
METHOD:PUBLISH
X-WR-CALNAME:Ecoportal
X-ORIGINAL-URL:http://ecoportal.net.au
X-WR-CALDESC:Events for Ecoportal
BEGIN:VEVENT
DTSTART;TZID=Australia/Melbourne:20200206T080000
DTEND;TZID=Australia/Melbourne:20200206T110000
DTSTAMP:20200226T130420
CREATED:20190915T233724Z
LAST-MODIFIED:20191205T053405Z
UID:11068-1580976000-1580986800@ecoportal.net.au
SUMMARY:Bush Regeneration\, Wangaratta.
DESCRIPTION:PLEASE NOTE  SUMMER START TIME – 8:00 am \nAs long as it’s not raining\, we’ll be regenerating bushland around Wangaratta. \nMore information? \nAdrian Twitt 0470 403 875 or 03 5721 5327 \nahtwitt@gmail.com \nUse the buttons below to share this with your friends or networks ...FacebookTwitter
URL:http://ecoportal.net.au/event/wangaratta-urban-landcare-regeneration-group-12-2/
END:VEVENT
END:VCALENDAR