BEGIN:VCALENDAR
VERSION:2.0
PRODID:-//Ecoportal - ECPv4.6.26.1//NONSGML v1.0//EN
CALSCALE:GREGORIAN
METHOD:PUBLISH
X-WR-CALNAME:Ecoportal
X-ORIGINAL-URL:http://ecoportal.net.au
X-WR-CALDESC:Events for Ecoportal
BEGIN:VEVENT
DTSTART;TZID=Australia/Melbourne:20200201T100000
DTEND;TZID=Australia/Melbourne:20200201T130000
DTSTAMP:20200226T125933
CREATED:20200107T035942Z
LAST-MODIFIED:20200123T030940Z
UID:11175-1580551200-1580562000@ecoportal.net.au
SUMMARY:Repair Cafe Alb-Wod: CHANGE OF VENUE
DESCRIPTION:This event has been re-located to the Wodonga Senior Citizens Centre (Havelock Street\, between the Cube and old Wodonga Library building) due to building damage in the Sustainable Activity Centre. \nDo you have a broken household item you’d like fixed but need a hand to do so? Then welcome to our first Repair Café session of 2020. \nThis month we’re featuring repairs to costume jewellery – re-threading beads\, attaching clasps and so on. \nOur Repair Café is a free meeting place to bring along broken household items such as furniture\, clothing\, battery-operated appliances and scratched CDs-DVDs and learn how to fix them with the help of experienced\, volunteer repairers. You can also bring along small\, blunt garden tools like secateurs and we’ll show you how to sharpen them. Maximum three items per person per session. \nPlease note NO soldering\, bikes\, devices or leather goods this session. \nRepair Café Albury-Wodonga is proudly supported by Halve Waste with yummy morning teas donated by Kooka Brotha’s patisserie. \nFor more information see our Facebook page: https://www.facebook.com/repaircafeaw/ \nUse the buttons below to share this with your friends or networks ...FacebookTwitter
URL:http://ecoportal.net.au/event/repair-cafe-alb-wod-featuring-costume-jewellery-repairs/
ATTACH;FMTTYPE=image/jpeg:http://ecoportal.net.au/wp-content/uploads/2020/01/IMG_6340.jpg
END:VEVENT
END:VCALENDAR