BEGIN:VCALENDAR
VERSION:2.0
PRODID:-//Ecoportal - ECPv4.6.26.1//NONSGML v1.0//EN
CALSCALE:GREGORIAN
METHOD:PUBLISH
X-WR-CALNAME:Ecoportal
X-ORIGINAL-URL:http://ecoportal.net.au
X-WR-CALDESC:Events for Ecoportal
BEGIN:VEVENT
DTSTART;TZID=Australia/Melbourne:20210224T171500
DTEND;TZID=Australia/Melbourne:20210224T193000
DTSTAMP:20210228T021221
CREATED:20210119T212757Z
LAST-MODIFIED:20210119T212757Z
UID:12255-1614186900-1614195000@ecoportal.net.au
SUMMARY:Border Bushwalking Club - canoeing after work
DESCRIPTION:There is nothing so relaxing as spending a few hours paddling on the Murray River in Albury. \nEach  Wednesday  you can spend a few relaxed hours paddling downstream in canoes hired locally. \nThe group meets at 5.15pm and for a cost of $16 you will be ferried\, with the hire canoes\, by mini bus to the start point.  Please wear a mask on the bus and bring your own sanitizer for yourself and the equipment.  Life jackets are also provided. \nYou  will also need to bring your own pen for the sign on sheet. \nRing Sasho with any enquiries. \n\nUngraded\nLeader: Sasho\nPhone: 0418228924\nFinal booking date: By midday on the day\n\n“For more information and updates about BBC activities\, check www.borderbushwalkingclub.com.au “ \nUse the buttons below to share this with your friends or networks ...FacebookTwitter
URL:http://ecoportal.net.au/event/border-bushwalking-club-canoeing-after-work-12/
END:VEVENT
END:VCALENDAR