BEGIN:VCALENDAR
VERSION:2.0
PRODID:-//Ecoportal - ECPv4.6.26.1//NONSGML v1.0//EN
CALSCALE:GREGORIAN
METHOD:PUBLISH
X-WR-CALNAME:Ecoportal
X-ORIGINAL-URL:http://ecoportal.net.au
X-WR-CALDESC:Events for Ecoportal
BEGIN:VEVENT
DTSTART;TZID=Australia/Melbourne:20200205T173000
DTEND;TZID=Australia/Melbourne:20200205T200000
DTSTAMP:20200226T130346
CREATED:20191227T234122Z
LAST-MODIFIED:20191227T234122Z
UID:11116-1580923800-1580932800@ecoportal.net.au
SUMMARY:Border Bushwalking Clb - After work paddling
DESCRIPTION:There’s no better way to relax after work than to float along a lazy river with the sun warming your skin and a paddle in your hands keeping an eye out for platypus\, kangaroos coming down to drink and spotting many species of birds. The cost is $15 that includes kayak\, paddles\, life jacket and transport. The participants must be able to swim 25m.\n.\nMeeting place Noreuil park boat ramp\, Albury\nTime 5.15pm until 7.30/8 pm\nGrade 2 Easy-Medium\nLeader: Sasho\nPhone: 0418228924\nParticipant numbers:12\nFinal booking date: Wed by 12.30pm \nUse the buttons below to share this with your friends or networks ...FacebookTwitter
URL:http://ecoportal.net.au/event/border-bushwalking-clb-after-work-paddling/
END:VEVENT
END:VCALENDAR