BEGIN:VCALENDAR
VERSION:2.0
PRODID:-//Ecoportal - ECPv4.6.26.1//NONSGML v1.0//EN
CALSCALE:GREGORIAN
METHOD:PUBLISH
X-WR-CALNAME:Ecoportal
X-ORIGINAL-URL:http://ecoportal.net.au
X-WR-CALDESC:Events for Ecoportal
BEGIN:VEVENT
DTSTART;TZID=Australia/Melbourne:20200201T080000
DTEND;TZID=Australia/Melbourne:20200201T103000
DTSTAMP:20200226T125857
CREATED:20200123T235427Z
LAST-MODIFIED:20200123T235427Z
UID:11265-1580544000-1580553000@ecoportal.net.au
SUMMARY:BirdLife Ovens & Murray - Bird Watching at Wonga Wetlands
DESCRIPTION:Morning walk including back lagoon. \nMeeting at Wonga Wetlands Visitors’ Centre. \nLeader: John Shepherd \nContact: John Shepherd 0417 274 380 \nUse the buttons below to share this with your friends or networks ...FacebookTwitter
URL:http://ecoportal.net.au/event/birdlife-ovens-murray-bird-watching-at-wonga-wetlands/
END:VEVENT
END:VCALENDAR